BEGIN:VCALENDAR
VERSION:2.0
PRODID:-//De Improviso - ECPv6.15.17.1//NONSGML v1.0//EN
CALSCALE:GREGORIAN
METHOD:PUBLISH
X-ORIGINAL-URL:https://deimproviso.com
X-WR-CALDESC:Eventos para De Improviso
REFRESH-INTERVAL;VALUE=DURATION:PT1H
X-Robots-Tag:noindex
X-PUBLISHED-TTL:PT1H
BEGIN:VTIMEZONE
TZID:Europe/Madrid
BEGIN:DAYLIGHT
TZOFFSETFROM:+0100
TZOFFSETTO:+0200
TZNAME:CEST
DTSTART:20250330T010000
END:DAYLIGHT
BEGIN:STANDARD
TZOFFSETFROM:+0200
TZOFFSETTO:+0100
TZNAME:CET
DTSTART:20251026T010000
END:STANDARD
BEGIN:DAYLIGHT
TZOFFSETFROM:+0100
TZOFFSETTO:+0200
TZNAME:CEST
DTSTART:20260329T010000
END:DAYLIGHT
BEGIN:STANDARD
TZOFFSETFROM:+0200
TZOFFSETTO:+0100
TZNAME:CET
DTSTART:20261025T010000
END:STANDARD
BEGIN:DAYLIGHT
TZOFFSETFROM:+0100
TZOFFSETTO:+0200
TZNAME:CEST
DTSTART:20270328T010000
END:DAYLIGHT
BEGIN:STANDARD
TZOFFSETFROM:+0200
TZOFFSETTO:+0100
TZNAME:CET
DTSTART:20271031T010000
END:STANDARD
END:VTIMEZONE
BEGIN:VEVENT
DTSTART;TZID=Europe/Madrid:20260426T190000
DTEND;TZID=Europe/Madrid:20260426T210000
DTSTAMP:20260424T145559
CREATED:20260330T085137Z
LAST-MODIFIED:20260330T195319Z
UID:3962-1777230000-1777237200@deimproviso.com
SUMMARY:DE IMPROVISO SHOW EN LA ENT DOMINGO 26 DE ABRIL 19:OO H
DESCRIPTION:De Improviso Show vuelve a la ENT \n📅 26 de abril🕖 19:00h📍 Escuela Navarra de Teatro \nUn espectáculo único e irrepetible en cada función\, creado en el momento con vuestra energía e imaginación. \nEl elenco crea historias improvisadas a partir de las propuestas del público\, que se convierte en el verdadero protagonista de la velada. Estas historias son únicas y sumergen a elenco y público en un universo efímero fruto de este encuentro irrepetible. Un show de comedia improvisada que libera la risa y el juego. \nVen a vivir la experiencia en directo. Porque lo que pasa De Improviso… ¡no se repite nunca! \nCONSIGUE AQUÍ TUS ENTRADAS \n  \n 
URL:https://deimproviso.com/event/de-improviso-show-en-la-ent-domingo-26-de-abril-19oo-h/
LOCATION:Escuela Navarra de Teatro | Nafarroako antzerki eskola\, San Agustin 5\, Pamplona / Iruña
ATTACH;FMTTYPE=image/jpeg:https://deimproviso.com/wp-content/uploads/2026/03/CARTEL-DI-SHOW-abril-ENT-scaled.jpg
END:VEVENT
BEGIN:VEVENT
DTSTART;TZID=Europe/Madrid:20260515T200000
DTEND;TZID=Europe/Madrid:20260515T213000
DTSTAMP:20260424T145559
CREATED:20260201T130603Z
LAST-MODIFIED:20260330T083539Z
UID:3857-1778875200-1778880600@deimproviso.com
SUMMARY:DE IMPROVISO SHOW 15/05/2026  EN EL CENTRO CULTURAL DE NOAIN 20:30 H
DESCRIPTION:Nos vamos con nuestro espectáculo De Improviso Show hasta  Noáin. \nUn espectáculo de teatro improvisado distinto\, único e irrepetible. \nMediante propuestas del público\, actores y actrices crean historias que jamás han sido contadas y que no volverán a existir más allá de ese momento. Efímeras\, desternillantes\, estas historias\, logran captar la atención del público y lo mantienen en un estado de conexión constante haciendo que se sienta parte fundamental del espectáculo. \n 
URL:https://deimproviso.com/event/de-improviso-show-15-05-2026-en-el-centro-cultural-de-noain-2000-h/
LOCATION:Centro Cultural Noáin\, Calle Real 10\, Noáin\, Navarra\, 31110
ATTACH;FMTTYPE=image/jpeg:https://deimproviso.com/wp-content/uploads/2026/02/IMAGEN-TAFALLA.jpg
ORGANIZER;CN="De ImproViso":MAILTO:deimporvisoteatro@gmail.com
END:VEVENT
BEGIN:VEVENT
DTSTART;TZID=Europe/Madrid:20260522T200000
DTEND;TZID=Europe/Madrid:20260522T213000
DTSTAMP:20260424T145559
CREATED:20260201T125330Z
LAST-MODIFIED:20260330T083401Z
UID:3854-1779480000-1779485400@deimproviso.com
SUMMARY:DE IMPROVISO SHOW 22/05/2026  EN EL CENTRO CULTURAL DE TAFALLA KULTURGUNEA 20:00H
DESCRIPTION:Nos vamos con nuestro espectáculo De Improviso Show hasta Tafalla en el Centro Cultural\, Kulturgunea. \nUn espectáculo de teatro improvisado distinto\, único e irrepetible. \nMediante propuestas del público\, actores y actrices crean historias que jamás han sido contadas y que no volverán a existir más allá de ese momento. Efímeras\, desternillantes\, estas historias\, logran captar la atención del público y lo mantienen en un estado de conexión constante haciendo que se sienta parte fundamental del espectáculo. \n 
URL:https://deimproviso.com/event/de-improviso-show-22-02-2026-en-el-centro-cultural-de-tafalla-kulturgunea-2000h/
LOCATION:Centro Cultural Tafalla Kulturgunea\, C. Hortanco\, s/n\,\, Tafalla\, Navarra\, 31300\, España
ATTACH;FMTTYPE=image/jpeg:https://deimproviso.com/wp-content/uploads/2026/02/IMAGEN-TAFALLA.jpg
ORGANIZER;CN="De ImproViso":MAILTO:deimporvisoteatro@gmail.com
END:VEVENT
BEGIN:VEVENT
DTSTART;TZID=Europe/Madrid:20260524T190000
DTEND;TZID=Europe/Madrid:20260524T210000
DTSTAMP:20260424T145559
CREATED:20260330T085519Z
LAST-MODIFIED:20260330T085519Z
UID:3966-1779649200-1779656400@deimproviso.com
SUMMARY:DE IMPROVISO SHOW EN LA ENT DOMINGO 24 DE MAYO 19:OO H
DESCRIPTION:De Improviso Show vuelve a la ENT \n📅 24 de mayo🕖 19:00h📍 Escuela Navarra de Teatro \nUn espectáculo único e irrepetible en cada función\, creado en el momento con vuestra energía e imaginación. \nEl elenco crea historias improvisadas a partir de las propuestas del público\, que se convierte en el verdadero protagonista de la velada. Estas historias son únicas y sumergen a elenco y público en un universo efímero fruto de este encuentro irrepetible. Un show de comedia improvisada que libera la risa y el juego. \nVen a vivir la experiencia en directo. Porque lo que pasa De Improviso… ¡no se repite nunca! \nCONSIGUE AQUÍ TUS ENTRADAS \n  \n 
URL:https://deimproviso.com/event/de-improviso-show-en-la-ent-domingo-24-de-mayo-19oo-h/
LOCATION:Escuela Navarra de Teatro | Nafarroako antzerki eskola\, San Agustin 5\, Pamplona / Iruña
ATTACH;FMTTYPE=image/jpeg:https://deimproviso.com/wp-content/uploads/2026/03/CARTEL-DI-SHOW-mayo-scaled.jpg
END:VEVENT
END:VCALENDAR